BEGIN:VCALENDAR
PRODID:-//kirchenweb.ch gmbh//veranstaltungsausgabe v2.0//DE
VERSION:2.0
METHOD:PUBLISH
BEGIN:VEVENT
DTSTART:20260502T081500Z
DTEND:20260502T094500Z
LOCATION:refTreffPunkt\, Bahnhofstrasse 7\, 5322 Koblenz
TRANSP:OPAQUE
SEQUENCE:0
UID:36199-veranstaltung@kirchgemeinde.ch
DTSTAMP:20251217T093101Z
DESCRIPTION:Kontakt: Katechetin Christina D. Pestalozzi\n\nWeitere Infos:
  https://www.kirchgemeinde.ch/veranstaltung/36199
SUMMARY:Religionsunterricht 1.bis 3. Klasse
PRIORITY:5
X-MICROSOFT-CDO-IMPORTANCE:1
CLASS:PUBLIC
END:VEVENT
END:VCALENDAR
