BEGIN:VCALENDAR
PRODID:-//kirchenweb.ch gmbh//veranstaltungsausgabe v2.0//DE
VERSION:2.0
METHOD:PUBLISH
BEGIN:VEVENT
DTSTART:20260426T170000Z
DTEND:20260426T180000Z
LOCATION:Reformierte Kirche\, Bahnhofstrasse 7\, 5322 Koblenz
TRANSP:OPAQUE
SEQUENCE:0
UID:36123-veranstaltung@kirchgemeinde.ch
DTSTAMP:20251204T092843Z
DESCRIPTION:Kontakt: Pfarrerin Jasmin von Wartburg;\nMusik: Markus
  Florian.\nKollekte: Frieda\n\nWeitere Infos:
  https://www.kirchgemeinde.ch/veranstaltung/36123
SUMMARY:Taizé-Gottesdienst
PRIORITY:5
X-MICROSOFT-CDO-IMPORTANCE:1
CLASS:PUBLIC
END:VEVENT
END:VCALENDAR
